BEGIN:VCALENDAR
VERSION:2.0
PRODID:-//Ohio Stereo Photographic Society - ECPv6.15.20//NONSGML v1.0//EN
CALSCALE:GREGORIAN
METHOD:PUBLISH
X-WR-CALNAME:Ohio Stereo Photographic Society
X-ORIGINAL-URL:https://ohio3d.com
X-WR-CALDESC:Events for Ohio Stereo Photographic Society
REFRESH-INTERVAL;VALUE=DURATION:PT1H
X-Robots-Tag:noindex
X-PUBLISHED-TTL:PT1H
BEGIN:VTIMEZONE
TZID:America/New_York
BEGIN:DAYLIGHT
TZOFFSETFROM:-0500
TZOFFSETTO:-0400
TZNAME:EDT
DTSTART:20190310T070000
END:DAYLIGHT
BEGIN:STANDARD
TZOFFSETFROM:-0400
TZOFFSETTO:-0500
TZNAME:EST
DTSTART:20191103T060000
END:STANDARD
BEGIN:DAYLIGHT
TZOFFSETFROM:-0500
TZOFFSETTO:-0400
TZNAME:EDT
DTSTART:20200308T070000
END:DAYLIGHT
BEGIN:STANDARD
TZOFFSETFROM:-0400
TZOFFSETTO:-0500
TZNAME:EST
DTSTART:20201101T060000
END:STANDARD
BEGIN:DAYLIGHT
TZOFFSETFROM:-0500
TZOFFSETTO:-0400
TZNAME:EDT
DTSTART:20210314T070000
END:DAYLIGHT
BEGIN:STANDARD
TZOFFSETFROM:-0400
TZOFFSETTO:-0500
TZNAME:EST
DTSTART:20211107T060000
END:STANDARD
BEGIN:DAYLIGHT
TZOFFSETFROM:-0500
TZOFFSETTO:-0400
TZNAME:EDT
DTSTART:20220313T070000
END:DAYLIGHT
BEGIN:STANDARD
TZOFFSETFROM:-0400
TZOFFSETTO:-0500
TZNAME:EST
DTSTART:20221106T060000
END:STANDARD
BEGIN:DAYLIGHT
TZOFFSETFROM:-0500
TZOFFSETTO:-0400
TZNAME:EDT
DTSTART:20230312T070000
END:DAYLIGHT
BEGIN:STANDARD
TZOFFSETFROM:-0400
TZOFFSETTO:-0500
TZNAME:EST
DTSTART:20231105T060000
END:STANDARD
END:VTIMEZONE
BEGIN:VEVENT
DTSTART;TZID=America/New_York:20220907T190000
DTEND;TZID=America/New_York:20220907T220000
DTSTAMP:20260421T111639
CREATED:20220828T152723Z
LAST-MODIFIED:20220828T153058Z
UID:376-1662577200-1662588000@ohio3d.com
SUMMARY:September 2022 OSPS Meeting
DESCRIPTION:Program: Ohio International Stereo Exhibition — Jay Horowitz\nCompetition: Open\nZoom Link: https://us02web.zoom.us/j/2881714258\nThis meeting will be hybrid in-person and Zoom call \nCome see a presentation of the images from the 2022 OISE competition and learn about how the competition went.
URL:https://ohio3d.com/event/september-2022-osps-meeting/
LOCATION:Buehler’s Fresh Foods Meeting Room\, 3626 Medina Rd\, Medina\, OH\, 44256\, United States
CATEGORIES:OSPS Meetings
ORGANIZER;CN="Barbar Gauche":MAILTO:wkiraly@cohenkiraly.com
END:VEVENT
BEGIN:VEVENT
DTSTART;TZID=America/New_York:20220607T190000
DTEND;TZID=America/New_York:20220607T220000
DTSTAMP:20260421T111639
CREATED:20210929T150435Z
LAST-MODIFIED:20210929T151814Z
UID:354-1654628400-1654639200@ohio3d.com
SUMMARY:June OSPS Meeting - Awards and Election
DESCRIPTION:This month we will have IOY Presentation\, Awards and Election of Officers \nNo competition in June \nMember and Competition images will be available for viewing on a link provided during the meeting. Zoom virtual meeting will be available for the video portion of the show. \nJoin Zoom Meeting\nhttps://us02web.zoom.us/j/2881714258 \nMeeting ID: 288 171 4258
URL:https://ohio3d.com/event/june-osps-meeting-awards-and-election/
LOCATION:Buehler’s Fresh Foods Meeting Room\, 3626 Medina Rd\, Medina\, OH\, 44256\, United States
CATEGORIES:OSPS Meetings
END:VEVENT
BEGIN:VEVENT
DTSTART;TZID=America/New_York:20220503T190000
DTEND;TZID=America/New_York:20220503T220000
DTSTAMP:20260421T111639
CREATED:20210929T150224Z
LAST-MODIFIED:20210929T151805Z
UID:352-1651604400-1651615200@ohio3d.com
SUMMARY:May OSPS Meeting - Understanding Depth Maps/Open
DESCRIPTION:This month we will have a workshop on Understanding Depth Maps \nOur competition topic is: Open \nMember and Competition images will be available for viewing on a link provided during the meeting. Zoom virtual meeting will be available for the video portion of the show. \nJoin Zoom Meeting\nhttps://us02web.zoom.us/j/2881714258 \nMeeting ID: 288 171 4258
URL:https://ohio3d.com/event/may-osps-meeting-understanding-depth-maps-open/
LOCATION:Buehler’s Fresh Foods Meeting Room\, 3626 Medina Rd\, Medina\, OH\, 44256\, United States
CATEGORIES:OSPS Meetings
END:VEVENT
BEGIN:VEVENT
DTSTART;TZID=America/New_York:20220301T190000
DTEND;TZID=America/New_York:20220301T220000
DTSTAMP:20260421T111639
CREATED:20210929T145513Z
LAST-MODIFIED:20210929T151746Z
UID:342-1646161200-1646172000@ohio3d.com
SUMMARY:March OSPS Meeting - Videos/Images from NASA
DESCRIPTION:NOTE: This meeting will be virtual only \nAt this meeting we will have a Videos and Images from NASA \nCompetition Topic: Sequences \nJoin Zoom Meeting\nhttps://us02web.zoom.us/j/2881714258 \nMeeting ID: 288 171 4258
URL:https://ohio3d.com/event/march-osps-meeting-videos-images-from-nasa/
LOCATION:Virtual Meeting Only
CATEGORIES:OSPS Meetings
END:VEVENT
BEGIN:VEVENT
DTSTART;TZID=America/New_York:20220201T190000
DTEND;TZID=America/New_York:20220201T220000
DTSTAMP:20260421T111639
CREATED:20210929T151322Z
LAST-MODIFIED:20210929T151737Z
UID:340-1643742000-1643752800@ohio3d.com
SUMMARY:February OSPS Meeting - Arrangement of 2 Cameras/Holidays
DESCRIPTION:NOTE: This meeting will be virtual only \nAt this meeting we will have a demo of different ways to arrange two cameras. \nCompetition Topic: Holidays \nJoin Zoom Meeting\nhttps://us02web.zoom.us/j/2881714258 \nMeeting ID: 288 171 4258
URL:https://ohio3d.com/event/february-meeting-arrangement-of-2-cameras-holidays/
LOCATION:Virtual Meeting Only
CATEGORIES:OSPS Meetings
END:VEVENT
BEGIN:VEVENT
DTSTART;TZID=America/New_York:20220104T190000
DTEND;TZID=America/New_York:20220104T220000
DTSTAMP:20260421T111639
CREATED:20210929T150041Z
LAST-MODIFIED:20210929T151453Z
UID:330-1641322800-1641333600@ohio3d.com
SUMMARY:January OSPS Meeting - Detroit International Stereo Exhibition/Open
DESCRIPTION:This meeting we will show the Detroit International Stereo Exhibition winners. \nCompetition: Open \nJoin Zoom Meeting\nhttps://us02web.zoom.us/j/2881714258 \nMeeting ID: 288 171 4258
URL:https://ohio3d.com/event/january-2021-meeting-detroit-intl-stereo-exhibition-open/
LOCATION:Virtual Meeting Only
CATEGORIES:OSPS Meetings
END:VEVENT
BEGIN:VEVENT
DTSTART;TZID=America/New_York:20211207T190000
DTEND;TZID=America/New_York:20211207T220000
DTSTAMP:20260421T111639
CREATED:20210929T150157Z
LAST-MODIFIED:20210929T151725Z
UID:334-1638903600-1638914400@ohio3d.com
SUMMARY:December OSPS Meeting - Open House/Fun 3D Videos
DESCRIPTION:This month we will have an open house \nOur competition topic is: Fun 3D Videos \nMember and Competition images will be available for viewing on a link provided during the meeting. Zoom virtual meeting will be available for the video portion of the show. \nJoin Zoom Meeting\nhttps://us02web.zoom.us/j/2881714258 \nMeeting ID: 288 171 4258 \n 
URL:https://ohio3d.com/event/december-meeting-open-house-fun-3d-videos/
LOCATION:Buehler’s Fresh Foods Meeting Room\, 3626 Medina Rd\, Medina\, OH\, 44256\, United States
CATEGORIES:OSPS Meetings
END:VEVENT
BEGIN:VEVENT
DTSTART;TZID=America/New_York:20211102T190000
DTEND;TZID=America/New_York:20211102T220000
DTSTAMP:20260421T111639
CREATED:20210929T151139Z
LAST-MODIFIED:20210929T151627Z
UID:327-1635879600-1635890400@ohio3d.com
SUMMARY:November OSPS Meeting - Historical Presentation/Black and White
DESCRIPTION:This month we will have awards presentation and a historical presentation by John Waldsmith \nOur competition topic is: Black and White \nMember and Competition images will be available for viewing on a link provided during the meeting. \nJoin Zoom Meeting\nhttps://us02web.zoom.us/j/2881714258 \nMeeting ID: 288 171 4258
URL:https://ohio3d.com/event/november-meeting-historical-presentation-black-and-white/
LOCATION:Buehler’s Fresh Foods Meeting Room\, 3626 Medina Rd\, Medina\, OH\, 44256\, United States
CATEGORIES:OSPS Meetings
END:VEVENT
BEGIN:VEVENT
DTSTART;TZID=America/New_York:20211005T190000
DTEND;TZID=America/New_York:20211005T220000
DTSTAMP:20260421T111639
CREATED:20210929T151157Z
LAST-MODIFIED:20210929T151556Z
UID:324-1633460400-1633471200@ohio3d.com
SUMMARY:October OSPS Meeting - Member Images/Dominant Color Blue
DESCRIPTION:This month we will show a series of Member Images. \nOur competition topic is Dominant Color Blue \nMember and Competition images will be available for viewing on a link provided during the meeting. \nJoin Zoom Meeting\nhttps://us02web.zoom.us/j/2881714258 \nMeeting ID: 288 171 4258
URL:https://ohio3d.com/event/october-2021-meeting-member-images-dominant-color-blue/
LOCATION:Buehler’s Fresh Foods Meeting Room\, 3626 Medina Rd\, Medina\, OH\, 44256\, United States
CATEGORIES:OSPS Meetings
END:VEVENT
BEGIN:VEVENT
DTSTART;TZID=America/New_York:20200602T150000
DTEND;TZID=America/New_York:20200602T180000
DTSTAMP:20260421T111639
CREATED:20200126T213208Z
LAST-MODIFIED:20200126T213208Z
UID:63-1591110000-1591120800@ohio3d.com
SUMMARY:June 2\, 2020 OSPS Meeting
DESCRIPTION:Open Projector\nStereo Image of the Year Presentation\nPresentation of Awards\, election of officers & Review\nNOTE: Check back before you leave to be sure the location has not changed
URL:https://ohio3d.com/event/june-2-2020-osps-meeting/
LOCATION:Days Inn\, 4742 Brecksville Rd (Rt 21)\, Richfield\, OH\, 44286\, United States
CATEGORIES:OSPS Meetings
END:VEVENT
BEGIN:VEVENT
DTSTART;TZID=America/New_York:20200505T150000
DTEND;TZID=America/New_York:20200505T180000
DTSTAMP:20260421T111639
CREATED:20200126T212845Z
LAST-MODIFIED:20200126T212911Z
UID:54-1588690800-1588701600@ohio3d.com
SUMMARY:May 5\, 2020 OSPS Meeting
DESCRIPTION:Open Projector\nWorkshop\nTBA \nCompetition\nOpen. Members can enter up to four stereo images of any subject \nNOTE: Check back before you leave to be sure the location has not changed
URL:https://ohio3d.com/event/may-5-2020-osps-meeting/
LOCATION:Days Inn\, 4742 Brecksville Rd (Rt 21)\, Richfield\, OH\, 44286\, United States
CATEGORIES:OSPS Meetings
END:VEVENT
BEGIN:VEVENT
DTSTART;TZID=America/New_York:20200407T150000
DTEND;TZID=America/New_York:20200407T180000
DTSTAMP:20260421T111639
CREATED:20200126T211911Z
LAST-MODIFIED:20200126T212322Z
UID:56-1586271600-1586282400@ohio3d.com
SUMMARY:April 7\, 2020 OSPS Meeting
DESCRIPTION:Open Projector\nWorkshop\nTBA \nCompetition\nPlant Life. Members can enter up to four stereo images with the subject of “Plant Life” \nNOTE: Check back before you leave to be sure the location has not changed
URL:https://ohio3d.com/event/april-7-2020-osps-meeting/
LOCATION:Days Inn\, 4742 Brecksville Rd (Rt 21)\, Richfield\, OH\, 44286\, United States
CATEGORIES:OSPS Meetings
ORGANIZER;CN="":MAILTO:wkiraly@cohenkiraly.com
END:VEVENT
BEGIN:VEVENT
DTSTART;TZID=America/New_York:20200303T140000
DTEND;TZID=America/New_York:20200303T170000
DTSTAMP:20260421T111639
CREATED:20200126T044907Z
LAST-MODIFIED:20200126T212244Z
UID:35-1583244000-1583254800@ohio3d.com
SUMMARY:March 3\, 2020 OSPS Meeting
DESCRIPTION:Open projector\nProgram\nPSA Stereo Sequences 2019 \nStereo Competition\n“Music” (up to 4 digital images per member) \nNOTE: Check back before you leave to be sure the location has not changed \n 
URL:https://ohio3d.com/event/march-3-2020-osps-meeting/
LOCATION:Days Inn\, 4742 Brecksville Rd (Rt 21)\, Richfield\, OH\, 44286\, United States
CATEGORIES:OSPS Meetings
END:VEVENT
BEGIN:VEVENT
DTSTART;TZID=America/New_York:20200204T140000
DTEND;TZID=America/New_York:20200204T170000
DTSTAMP:20260421T111639
CREATED:20200126T044550Z
LAST-MODIFIED:20200126T045412Z
UID:32-1580824800-1580835600@ohio3d.com
SUMMARY:February 2020: Workshop and Stereo Sequence Competition
DESCRIPTION:Workshop\nGeorge Themelis: Twin cameras for 3D \nStereo Sequence Competition\nMembers can enter up to 3 sequences of stereo images\, as in past years. This is a stand alone competition and the winner receives the OSPS Medal.
URL:https://ohio3d.com/event/february-2020-workshop-and-stereo-sequence-competition/
LOCATION:Meridian Condo\, 12550 Lake Avenue\, Lakewood\, OH\, 44107\, United States
CATEGORIES:OSPS Meetings
END:VEVENT
END:VCALENDAR