BEGIN:VCALENDAR
VERSION:2.0
PRODID:-//Ohio Stereo Photographic Society - ECPv6.15.20//NONSGML v1.0//EN
CALSCALE:GREGORIAN
METHOD:PUBLISH
X-ORIGINAL-URL:https://ohio3d.com
X-WR-CALDESC:Events for Ohio Stereo Photographic Society
REFRESH-INTERVAL;VALUE=DURATION:PT1H
X-Robots-Tag:noindex
X-PUBLISHED-TTL:PT1H
BEGIN:VTIMEZONE
TZID:America/New_York
BEGIN:DAYLIGHT
TZOFFSETFROM:-0500
TZOFFSETTO:-0400
TZNAME:EDT
DTSTART:20190310T070000
END:DAYLIGHT
BEGIN:STANDARD
TZOFFSETFROM:-0400
TZOFFSETTO:-0500
TZNAME:EST
DTSTART:20191103T060000
END:STANDARD
BEGIN:DAYLIGHT
TZOFFSETFROM:-0500
TZOFFSETTO:-0400
TZNAME:EDT
DTSTART:20200308T070000
END:DAYLIGHT
BEGIN:STANDARD
TZOFFSETFROM:-0400
TZOFFSETTO:-0500
TZNAME:EST
DTSTART:20201101T060000
END:STANDARD
BEGIN:DAYLIGHT
TZOFFSETFROM:-0500
TZOFFSETTO:-0400
TZNAME:EDT
DTSTART:20210314T070000
END:DAYLIGHT
BEGIN:STANDARD
TZOFFSETFROM:-0400
TZOFFSETTO:-0500
TZNAME:EST
DTSTART:20211107T060000
END:STANDARD
END:VTIMEZONE
BEGIN:VEVENT
DTSTART;VALUE=DATE:20200810
DTEND;VALUE=DATE:20200818
DTSTAMP:20260421T115712
CREATED:20200126T051257Z
LAST-MODIFIED:20200126T051257Z
UID:38-1597089600-1597694399@ohio3d.com
SUMMARY:2020 NSA Convention
DESCRIPTION:What is the 3D-Con?\nThe National Stereoscopic Association is a non-profit organization founded in 1974\, whose goals are to promote the study\, collection and use of stereo photography it has over 1\,000 members. 3D-con is traditionally the name of the NSA annual convention\, held somewhere different every year in the summertime. \nWhat happens at a convention?\nThe convention has programming for the collector as well as the photographer. Among the highlights are the trade show\, the stereo theater\, workshops\, tours\, and auction\, and Special Interest Meetings meetings. In addition\, we hold slide and print contests and showings of stereo (3D) photography.
URL:https://ohio3d.com/event/2020-nsa-convention/
LOCATION:Hotel Murano\, 1320 Broadway\, \, WA\, Tacoma\, WA\, 98402\, United States
CATEGORIES:NSA Convention
END:VEVENT
END:VCALENDAR